BEGIN:VCALENDAR
VERSION:2.0
PRODID:-//TYPO3/NONSGML Calendarize//EN
BEGIN:VEVENT
UID:calendarize-10-jahrgangsstufe-workshop-easy-learning
DTSTAMP:20260421T104146Z
DTSTART:20260614T220000Z
DTEND:20260615T220000Z
SUMMARY:10. Jahrgangsstufe: Workshop "Easy Learning"
DESCRIPTION:
X-ALT-DESC;FMTTYPE=text/html:
LOCATION:
END:VEVENT
END:VCALENDAR
