BEGIN:VCALENDAR
VERSION:2.0
PRODID:-//TYPO3/NONSGML Calendarize//EN
BEGIN:VEVENT
UID:calendarize-9-jahrgangsstufe-gedenkstaettenfahrt
DTSTAMP:20260423T083027Z
DTSTART:20260422T220000Z
DTEND:20260422T220000Z
SUMMARY:9. Jahrgangsstufe: Gedenkstättenfahrt
DESCRIPTION:
X-ALT-DESC;FMTTYPE=text/html:
LOCATION:Dachau
END:VEVENT
END:VCALENDAR
