BEGIN:VCALENDAR
VERSION:2.0
PRODID:-//TYPO3/NONSGML Calendarize//EN
BEGIN:VEVENT
UID:calendarize-neuaufnahme-in-die-jahrgangsstufe-5-1
DTSTAMP:20260421T105316Z
DTSTART:20260514T220000Z
DTEND:20260514T220000Z
SUMMARY:Neuaufnahme in die Jahrgangsstufe 5
DESCRIPTION:
X-ALT-DESC;FMTTYPE=text/html:
LOCATION:
END:VEVENT
END:VCALENDAR
